BEGIN:VCALENDAR
VERSION:2.0
PRODID:-//Sabre//Sabre VObject 4.5.8//EN
CALSCALE:GREGORIAN
BEGIN:VEVENT
UID:sabre-vobject-6243b5fe-5665-4b43-a3df-735f95f3f6b0
DTSTAMP:20260423T204917Z
SUMMARY:Maiandacht in der Aukapelle
DESCRIPTION:https://www2.bistum-augsburg.de/gottesdienste/maiandacht-in-der
 -aukapelle_id1726201
DTSTART;TZID=Europe/Berlin:20260501T190000
DURATION:PT30M
LOCATION:St. Stephan\, Stefanstraße 5\, 86573 Obergriesbach
END:VEVENT
END:VCALENDAR
