BEGIN:VCALENDAR
VERSION:2.0
PRODID:-//Sabre//Sabre VObject 4.5.8//EN
CALSCALE:GREGORIAN
BEGIN:VEVENT
UID:sabre-vobject-4e710cd3-3d9a-4335-882e-8825285a7f47
DTSTAMP:20260424T211428Z
SUMMARY:ENTFÄLLT!! Hl. Messe
DESCRIPTION:https://www2.bistum-augsburg.de/gottesdienste/entfaellt-hl-mess
 e_id1726223
DTSTART;TZID=Europe/Berlin:20260513T173000
DURATION:PT30M
LOCATION:Hlgst. Herz Jesu
END:VEVENT
END:VCALENDAR
