BEGIN:VCALENDAR
VERSION:2.0
PRODID:-//Sabre//Sabre VObject 4.5.8//EN
CALSCALE:GREGORIAN
BEGIN:VEVENT
UID:sabre-vobject-011a9ba8-be1f-4857-868f-bf5994c0aca0
DTSTAMP:20260422T210618Z
SUMMARY:Rosenkranz
DESCRIPTION:https://www2.bistum-augsburg.de/gottesdienste/rosenkranz_id1726
 237
DTSTART;TZID=Europe/Berlin:20260427T160000
DURATION:PT30M
LOCATION:St. Bartholomäus
END:VEVENT
END:VCALENDAR
