BEGIN:VCALENDAR
VERSION:2.0
PRODID:-//Sabre//Sabre VObject 4.5.8//EN
CALSCALE:GREGORIAN
BEGIN:VEVENT
UID:sabre-vobject-b9ae546f-66f2-4964-aa8c-728a67478939
DTSTAMP:20260422T205414Z
SUMMARY:Rosenkranz
DESCRIPTION:https://www2.bistum-augsburg.de/gottesdienste/rosenkranz_id1726
 239
DTSTART;TZID=Europe/Berlin:20260429T160000
DURATION:PT30M
LOCATION:St. Bartholomäus
END:VEVENT
END:VCALENDAR
