BEGIN:VCALENDAR
VERSION:2.0
PRODID:-//Sabre//Sabre VObject 4.5.8//EN
CALSCALE:GREGORIAN
BEGIN:VEVENT
UID:sabre-vobject-6c7a3414-a7cb-456f-b397-adc672755880
DTSTAMP:20260424T225309Z
SUMMARY:Heilige Messe
DESCRIPTION:https://www2.bistum-augsburg.de/gottesdienste/heilige-messe_id1
 726256
DTSTART;TZID=Europe/Berlin:20260505T083000
DURATION:PT30M
LOCATION:St. Johannes Baptist\, Wihdumweg 2\, 89250 Aufheim
END:VEVENT
END:VCALENDAR
