BEGIN:VCALENDAR
VERSION:2.0
PRODID:-//Sabre//Sabre VObject 4.5.8//EN
CALSCALE:GREGORIAN
BEGIN:VEVENT
UID:sabre-vobject-dc3b69ab-04f1-4780-aa8e-92e0a10f553c
DTSTAMP:20260424T210256Z
SUMMARY:Pfarrgottesdienst
DESCRIPTION:https://www2.bistum-augsburg.de/gottesdienste/pfarrgottesdienst
 _id1726257
DTSTART;TZID=Europe/Berlin:20260510T083000
DURATION:PT30M
LOCATION:St. Johannes Baptist\, Wihdumweg 2\, 89250 Aufheim
END:VEVENT
END:VCALENDAR
