BEGIN:VCALENDAR
VERSION:2.0
PRODID:-//Sabre//Sabre VObject 4.5.8//EN
CALSCALE:GREGORIAN
BEGIN:VEVENT
UID:sabre-vobject-363202cf-1aec-4130-9a0b-abc5b5acf9f0
DTSTAMP:20260423T210229Z
SUMMARY:Maiandacht
DESCRIPTION:https://www2.bistum-augsburg.de/gottesdienste/maiandacht_id1726
 258
DTSTART;TZID=Europe/Berlin:20260515T090000
DURATION:PT30M
LOCATION:St. Margaretha
END:VEVENT
END:VCALENDAR
