BEGIN:VCALENDAR
VERSION:2.0
PRODID:-//Sabre//Sabre VObject 4.5.8//EN
CALSCALE:GREGORIAN
BEGIN:VEVENT
UID:sabre-vobject-434cf363-0f11-447f-8e36-b3f79570eae5
DTSTAMP:20260424T203315Z
SUMMARY:Abschlusstreffen Kokis
DESCRIPTION:https://www2.bistum-augsburg.de/gottesdienste/abschlusstreffen-
 kokis_id1726278
DTSTART;TZID=Europe/Berlin:20260509T110000
DURATION:PT30M
LOCATION:Mariä Schmerzen
END:VEVENT
END:VCALENDAR
