BEGIN:VCALENDAR
VERSION:2.0
PRODID:-//Sabre//Sabre VObject 4.5.8//EN
CALSCALE:GREGORIAN
BEGIN:VEVENT
UID:sabre-vobject-494b4cc7-11dc-4a71-839f-d94a5797b3a7
DTSTAMP:20260424T183516Z
SUMMARY:Schützenwallfahrt mit feierlicher Maiandacht an der Schnarrkapelle
   -  13:15 Uhr Abmarsch an der Kirche - Bei Regen findet die Andacht in de
 r Kirche statt.
DESCRIPTION:https://www2.bistum-augsburg.de/gottesdienste/schuetzenwallfahr
 t-mit-feierlicher-maiandacht-an-der-schnarrkapelle-13-15-uhr-abmarsch-an-d
 er-kirche-bei-regen-findet-die-andacht-in-der-kirche-statt_id1726298
DTSTART;TZID=Europe/Berlin:20260501T140000
DURATION:PT30M
LOCATION:St. Nikolaus
END:VEVENT
END:VCALENDAR
