BEGIN:VCALENDAR
VERSION:2.0
PRODID:-//Sabre//Sabre VObject 4.5.8//EN
CALSCALE:GREGORIAN
BEGIN:VEVENT
UID:sabre-vobject-2f1f3c90-ddcd-4f7a-8395-c86346e24c31
DTSTAMP:20260422T145805Z
SUMMARY:Maiandacht an der Hofkapelle Memming
DESCRIPTION:https://www2.bistum-augsburg.de/gottesdienste/maiandacht-an-der
 -hofkapelle-memming_id1726305
DTSTART;TZID=Europe/Berlin:20260503T190000
DURATION:PT30M
LOCATION:Maria Rosenkranzkönigin
END:VEVENT
END:VCALENDAR
