BEGIN:VCALENDAR
VERSION:2.0
PRODID:-//Sabre//Sabre VObject 4.5.8//EN
CALSCALE:GREGORIAN
BEGIN:VEVENT
UID:sabre-vobject-29a28d12-ca63-4ac1-8ec9-7f6d77684a65
DTSTAMP:20260424T030049Z
SUMMARY:Wallfahrtsmesse um Fürsprache der schmerzhaften Muttergottes für 
 alle Pilger und ihre Anliegen
DESCRIPTION:https://www2.bistum-augsburg.de/gottesdienste/wallfahrtsmesse-u
 m-fuersprache-der-schmerzhaften-muttergottes-fuer-alle-pilger-und-ihre-anl
 iegen_id1726313
DTSTART;TZID=Europe/Berlin:20260512T090000
DURATION:PT30M
LOCATION:Mariä Schmerzen
END:VEVENT
END:VCALENDAR
