BEGIN:VCALENDAR
VERSION:2.0
PRODID:-//Sabre//Sabre VObject 4.5.8//EN
CALSCALE:GREGORIAN
BEGIN:VEVENT
UID:sabre-vobject-27a8626d-0b84-4e98-89c4-1f73a2424283
DTSTAMP:20260424T075010Z
SUMMARY:Rosenkranz
DESCRIPTION:https://www2.bistum-augsburg.de/gottesdienste/rosenkranz_id1726
 321
DTSTART;TZID=Europe/Berlin:20260521T180000
DURATION:PT30M
LOCATION:St. Dionysius
END:VEVENT
END:VCALENDAR
