BEGIN:VCALENDAR
VERSION:2.0
PRODID:-//Sabre//Sabre VObject 4.5.8//EN
CALSCALE:GREGORIAN
BEGIN:VEVENT
UID:sabre-vobject-45aa2aca-365f-4c52-9ac2-6704da8987bb
DTSTAMP:20260424T193036Z
SUMMARY:VAM:
DESCRIPTION:https://www2.bistum-augsburg.de/gottesdienste/vam_id1726327
DTSTART;TZID=Europe/Berlin:20260509T183000
DURATION:PT30M
LOCATION:St. Nikolaus
END:VEVENT
END:VCALENDAR
