BEGIN:VCALENDAR
VERSION:2.0
PRODID:-//Sabre//Sabre VObject 4.5.8//EN
CALSCALE:GREGORIAN
BEGIN:VEVENT
UID:sabre-vobject-ba507b2d-05ce-4ccf-985f-1a9288b6ede5
DTSTAMP:20260425T020945Z
SUMMARY:Rosenkranz in der Ottilienkapelle
DESCRIPTION:https://www2.bistum-augsburg.de/gottesdienste/rosenkranz-in-der
 -ottilienkapelle_id1726329
DTSTART;TZID=Europe/Berlin:20260510T123000
DURATION:PT30M
LOCATION:St. Nikolaus
END:VEVENT
END:VCALENDAR
