BEGIN:VCALENDAR
VERSION:2.0
PRODID:-//Sabre//Sabre VObject 4.5.8//EN
CALSCALE:GREGORIAN
BEGIN:VEVENT
UID:sabre-vobject-9f515881-dc80-4a66-8814-6683bde63295
DTSTAMP:20260424T000339Z
SUMMARY:Rosenkranz
DESCRIPTION:https://www2.bistum-augsburg.de/gottesdienste/rosenkranz_id1726
 335
DTSTART;TZID=Europe/Berlin:20260508T080000
DURATION:PT30M
LOCATION:Mariä Verkündigung
END:VEVENT
END:VCALENDAR
