BEGIN:VCALENDAR
VERSION:2.0
PRODID:-//Sabre//Sabre VObject 4.5.8//EN
CALSCALE:GREGORIAN
BEGIN:VEVENT
UID:sabre-vobject-9ad136be-a10d-4a6b-8b02-41aaacebe203
DTSTAMP:20260424T101406Z
SUMMARY:Hl. M. am Stadel: um Frieden - mit Abordnung des Musikvereins Wehri
 ngen. Bei schlechtem Wetter (Glockenläuten) entfällt der Bittgang\, stat
 tdessen Messe in G und WGF in W jeweils um 18.00 Uhr
DESCRIPTION:https://www2.bistum-augsburg.de/gottesdienste/hl-m-am-stadel-um
 -frieden-mit-abordnung-des-musikvereins-wehringen-bei-schlechtem-wetter-gl
 ockenlaeuten-entfaellt-der-bittgang-stattdessen-messe-in-g-und-wgf-in-w-je
 weils-um-18-00-uhr_id1726339
DTSTART;TZID=Europe/Berlin:20260511T185000
DURATION:PT30M
LOCATION:St. Georg\, Kirchberg 3\, 86517 Wehringen
END:VEVENT
END:VCALENDAR
