BEGIN:VCALENDAR
VERSION:2.0
PRODID:-//Sabre//Sabre VObject 4.5.8//EN
CALSCALE:GREGORIAN
BEGIN:VEVENT
UID:sabre-vobject-0c8ea558-4b61-4a4c-840c-e7c5c9889cea
DTSTAMP:20260424T112649Z
SUMMARY:Bittgang zur Hl.-Kreuz-Kapelle. Start an der Pfarrkirche
DESCRIPTION:https://www2.bistum-augsburg.de/gottesdienste/bittgang-zur-hl-k
 reuz-kapelle-start-an-der-pfarrkirche_id1726341
DTSTART;TZID=Europe/Berlin:20260512T181500
DURATION:PT30M
LOCATION:St. Georg\, Kirchberg 3\, 86517 Wehringen
END:VEVENT
END:VCALENDAR
