BEGIN:VCALENDAR
VERSION:2.0
PRODID:-//Sabre//Sabre VObject 4.5.8//EN
CALSCALE:GREGORIAN
BEGIN:VEVENT
UID:sabre-vobject-d6b324bd-7c65-4c66-ab9b-0160fed89abb
DTSTAMP:20260423T104038Z
SUMMARY:Vorabendmesse (bitte geänderte Uhrzeit beachten !!!) anschl. Kirch
 enspätschoppen
DESCRIPTION:https://www2.bistum-augsburg.de/gottesdienste/vorabendmesse-bit
 te-geaenderte-uhrzeit-beachten-anschl-kirchenspaetschoppen_id1726363
DTSTART;TZID=Europe/Berlin:20260502T180000
DURATION:PT30M
LOCATION:St. Michael
END:VEVENT
END:VCALENDAR
