BEGIN:VCALENDAR
VERSION:2.0
PRODID:-//Sabre//Sabre VObject 4.5.8//EN
CALSCALE:GREGORIAN
BEGIN:VEVENT
UID:sabre-vobject-77016427-51f4-4813-b6d3-ae282f970378
DTSTAMP:20260425T175554Z
SUMMARY:Maiandacht an der Streuobstwiese gestaltet vom Männergesangsverein
DESCRIPTION:https://www2.bistum-augsburg.de/gottesdienste/maiandacht-an-der
 -streuobstwiese-gestaltet-vom-maennergesangsverein_id1726366
DTSTART;TZID=Europe/Berlin:20260517T133000
DURATION:PT30M
LOCATION:St. Peter und Paul
END:VEVENT
END:VCALENDAR
