BEGIN:VCALENDAR
VERSION:2.0
PRODID:-//Sabre//Sabre VObject 4.5.8//EN
CALSCALE:GREGORIAN
BEGIN:VEVENT
UID:sabre-vobject-1854b571-5da3-4885-820b-98840b623593
DTSTAMP:20260422T124616Z
SUMMARY:Feier der Erstkommunion
DESCRIPTION:https://www2.bistum-augsburg.de/gottesdienste/feier-der-erstkom
 munion_id1726398
DTSTART;TZID=Europe/Berlin:20260503T103000
DURATION:PT30M
LOCATION:St. Martin\, Martinsplatz 4\, 86482 Aystetten
END:VEVENT
END:VCALENDAR
