BEGIN:VCALENDAR
VERSION:2.0
PRODID:-//Sabre//Sabre VObject 4.5.8//EN
CALSCALE:GREGORIAN
BEGIN:VEVENT
UID:sabre-vobject-6aa13270-d1f7-4574-85e8-a7c6613ed965
DTSTAMP:20260425T141242Z
SUMMARY:Heilige Messe anschl. Maiandacht - 17:30 Uhr Rosenkranz
DESCRIPTION:https://www2.bistum-augsburg.de/gottesdienste/heilige-messe-ans
 chl-maiandacht-17-30-uhr-rosenkranz_id1726400
DTSTART;TZID=Europe/Berlin:20260506T180000
DURATION:PT30M
LOCATION:St. Martin\, Martinsplatz 4\, 86482 Aystetten
END:VEVENT
END:VCALENDAR
