BEGIN:VCALENDAR
VERSION:2.0
PRODID:-//Sabre//Sabre VObject 4.5.8//EN
CALSCALE:GREGORIAN
BEGIN:VEVENT
UID:sabre-vobject-84d90230-9f99-45da-bd7a-38ddf599642a
DTSTAMP:20260425T160835Z
SUMMARY:Rosenkranz
DESCRIPTION:https://www2.bistum-augsburg.de/gottesdienste/rosenkranz_id1726
 426
DTSTART;TZID=Europe/Berlin:20260506T080000
DURATION:PT30M
LOCATION:Maria Königin
END:VEVENT
END:VCALENDAR
