BEGIN:VCALENDAR
VERSION:2.0
PRODID:-//Sabre//Sabre VObject 4.5.8//EN
CALSCALE:GREGORIAN
BEGIN:VEVENT
UID:sabre-vobject-9552a6be-3b5c-49db-9d64-1c1a53d40637
DTSTAMP:20260424T170021Z
SUMMARY:Heilige Messe
DESCRIPTION:https://www2.bistum-augsburg.de/gottesdienste/heilige-messe_id1
 726437
DTSTART;TZID=Europe/Berlin:20260506T081500
DURATION:PT30M
LOCATION:Kath. Von Langenmantel'sche Kobelkapellenstiftung Stiftung des öf
 fentlichen Rechts\, \, 86356 Neusäß Westheim
END:VEVENT
END:VCALENDAR
