BEGIN:VCALENDAR
VERSION:2.0
PRODID:-//Sabre//Sabre VObject 4.5.8//EN
CALSCALE:GREGORIAN
BEGIN:VEVENT
UID:sabre-vobject-79cd2919-8a2b-4eb3-ba08-acd338e48b1c
DTSTAMP:20260424T081639Z
SUMMARY:Heilige Messe
DESCRIPTION:https://www2.bistum-augsburg.de/gottesdienste/heilige-messe_id1
 726442
DTSTART;TZID=Europe/Berlin:20260508T150000
DURATION:PT30M
LOCATION:Kath. Von Langenmantel'sche Kobelkapellenstiftung Stiftung des öf
 fentlichen Rechts\, \, 86356 Neusäß Westheim
END:VEVENT
END:VCALENDAR
