BEGIN:VCALENDAR
VERSION:2.0
PRODID:-//Sabre//Sabre VObject 4.5.8//EN
CALSCALE:GREGORIAN
BEGIN:VEVENT
UID:sabre-vobject-f9fd321e-65fa-4f9b-b445-5c2e91eefe9d
DTSTAMP:20260424T015434Z
SUMMARY:Bittgang zum Endreskreuz\, Fleinhausen (entfällt bei Regen)
DESCRIPTION:https://www2.bistum-augsburg.de/gottesdienste/bittgang-zum-endr
 eskreuz-fleinhausen-entfaellt-bei-regen_id1726450
DTSTART;TZID=Europe/Berlin:20260509T190000
DURATION:PT30M
LOCATION:St. Peter und Paul\, Kirchbergstraße 2\, 86424 Grünenbaindt
END:VEVENT
END:VCALENDAR
