BEGIN:VCALENDAR
VERSION:2.0
PRODID:-//Sabre//Sabre VObject 4.5.8//EN
CALSCALE:GREGORIAN
BEGIN:VEVENT
UID:sabre-vobject-ca259989-a202-4470-a34c-5c3fbe269ecb
DTSTAMP:20260424T013644Z
SUMMARY:Hl. M. mit Marienlob:
DESCRIPTION:https://www2.bistum-augsburg.de/gottesdienste/hl-m-mit-marienlo
 b_id1726454
DTSTART;TZID=Europe/Berlin:20260510T183000
DURATION:PT30M
LOCATION:St. Jakobus
END:VEVENT
END:VCALENDAR
