BEGIN:VCALENDAR
VERSION:2.0
PRODID:-//Sabre//Sabre VObject 4.5.8//EN
CALSCALE:GREGORIAN
BEGIN:VEVENT
UID:sabre-vobject-fe6aa07c-b84a-4bc8-817f-b1ea04a90dc9
DTSTAMP:20260423T205042Z
SUMMARY:feierliche Maiandacht
DESCRIPTION:https://www2.bistum-augsburg.de/gottesdienste/feierliche-maiand
 acht_id1726472
DTSTART;TZID=Europe/Berlin:20260514T183000
DURATION:PT30M
LOCATION:St. Michael\, St.-Michaels-Platz\, 86316 Friedberg
END:VEVENT
END:VCALENDAR
