BEGIN:VCALENDAR
VERSION:2.0
PRODID:-//Sabre//Sabre VObject 4.5.8//EN
CALSCALE:GREGORIAN
BEGIN:VEVENT
UID:sabre-vobject-f4aabeed-cae0-44c1-a61d-0994a3e24766
DTSTAMP:20260423T192428Z
SUMMARY:Messe
DESCRIPTION:https://www2.bistum-augsburg.de/gottesdienste/messe_id1726473
DTSTART;TZID=Europe/Berlin:20260515T090000
DURATION:PT30M
LOCATION:St. Michael\, St.-Michaels-Platz\, 86316 Friedberg
END:VEVENT
END:VCALENDAR
