BEGIN:VCALENDAR
VERSION:2.0
PRODID:-//Sabre//Sabre VObject 4.5.8//EN
CALSCALE:GREGORIAN
BEGIN:VEVENT
UID:sabre-vobject-20f43ac5-28d7-4b2a-9757-eec783a6c192
DTSTAMP:20260425T040358Z
SUMMARY:Heilige Messe entfällt
DESCRIPTION:https://www2.bistum-augsburg.de/gottesdienste/heilige-messe-ent
 faellt_id1726481
DTSTART;TZID=Europe/Berlin:20260513T190000
DURATION:PT30M
LOCATION:St. Katharina
END:VEVENT
END:VCALENDAR
