BEGIN:VCALENDAR
VERSION:2.0
PRODID:-//Sabre//Sabre VObject 4.5.8//EN
CALSCALE:GREGORIAN
BEGIN:VEVENT
UID:sabre-vobject-c642fb92-1688-4622-bf32-70faf748e6a9
DTSTAMP:20260423T003122Z
SUMMARY:Maiandacht\, gestaltet von der KAB
DESCRIPTION:https://www2.bistum-augsburg.de/gottesdienste/maiandacht-gestal
 tet-von-der-kab_id1726495
DTSTART;TZID=Europe/Berlin:20260503T190000
DURATION:PT30M
LOCATION:St. Laurentius
END:VEVENT
END:VCALENDAR
