BEGIN:VCALENDAR
VERSION:2.0
PRODID:-//Sabre//Sabre VObject 4.5.8//EN
CALSCALE:GREGORIAN
BEGIN:VEVENT
UID:sabre-vobject-853c54db-5d67-42f7-8c77-7358658a960c
DTSTAMP:20260425T030228Z
SUMMARY:Vorabendmesse
DESCRIPTION:https://www2.bistum-augsburg.de/gottesdienste/vorabendmesse_id1
 726500
DTSTART;TZID=Europe/Berlin:20260530T190000
DURATION:PT30M
LOCATION:Mariä Schmerzen
END:VEVENT
END:VCALENDAR
