BEGIN:VCALENDAR
VERSION:2.0
PRODID:-//Sabre//Sabre VObject 4.5.8//EN
CALSCALE:GREGORIAN
BEGIN:VEVENT
UID:sabre-vobject-5e4ef3e9-899f-4a5c-a788-0d284c720bdd
DTSTAMP:20260424T065749Z
SUMMARY:Maiandacht gest. Trachtenverein musik. Umrahmung Hausmusik Auer
DESCRIPTION:https://www2.bistum-augsburg.de/gottesdienste/maiandacht-gest-t
 rachtenverein-musik-umrahmung-hausmusik-auer_id1726509
DTSTART;TZID=Europe/Berlin:20260510T190000
DURATION:PT30M
LOCATION:Mariä Heimsuchung
END:VEVENT
END:VCALENDAR
