BEGIN:VCALENDAR
VERSION:2.0
PRODID:-//Sabre//Sabre VObject 4.5.8//EN
CALSCALE:GREGORIAN
BEGIN:VEVENT
UID:sabre-vobject-2967e83f-6175-4b80-9766-de0756b8a2b4
DTSTAMP:20260424T225249Z
SUMMARY:KRANKENKOMMUNION in der ganzen PG
DESCRIPTION:https://www2.bistum-augsburg.de/gottesdienste/krankenkommunion-
 in-der-ganzen-pg_id1726520
DTSTART;TZID=Europe/Berlin:20260508T083000
DURATION:PT30M
LOCATION:Heilig Kreuz\,  Petershausener Str. 1\, 85302 Gerolsbach Alberzell
END:VEVENT
END:VCALENDAR
