BEGIN:VCALENDAR
VERSION:2.0
PRODID:-//Sabre//Sabre VObject 4.5.8//EN
CALSCALE:GREGORIAN
BEGIN:VEVENT
UID:sabre-vobject-6bd3506e-90aa-468c-a4f8-033c88aa8500
DTSTAMP:20260424T044257Z
SUMMARY:Maiandacht
DESCRIPTION:https://www2.bistum-augsburg.de/gottesdienste/maiandacht_id1726
 531
DTSTART;TZID=Europe/Berlin:20260518T180000
DURATION:PT30M
LOCATION:Heilig Kreuz\,  Petershausener Str. 1\, 85302 Gerolsbach Alberzell
END:VEVENT
END:VCALENDAR
