BEGIN:VCALENDAR
VERSION:2.0
PRODID:-//Sabre//Sabre VObject 4.5.8//EN
CALSCALE:GREGORIAN
BEGIN:VEVENT
UID:sabre-vobject-d5fd1e31-b4dd-422d-9e7e-7cccf54922c8
DTSTAMP:20260424T060756Z
SUMMARY:Heilige Messe
DESCRIPTION:https://www2.bistum-augsburg.de/gottesdienste/heilige-messe_id1
 726533
DTSTART;TZID=Europe/Berlin:20260520T183000
DURATION:PT30M
LOCATION:Heilig Kreuz\,  Petershausener Str. 1\, 85302 Gerolsbach Alberzell
END:VEVENT
END:VCALENDAR
