BEGIN:VCALENDAR
VERSION:2.0
PRODID:-//Sabre//Sabre VObject 4.5.8//EN
CALSCALE:GREGORIAN
BEGIN:VEVENT
UID:sabre-vobject-1bb0e7b8-6de0-4ac1-a10b-610332ad3737
DTSTAMP:20260424T212523Z
SUMMARY:Maiandacht
DESCRIPTION:https://www2.bistum-augsburg.de/gottesdienste/maiandacht_id1726
 536
DTSTART;TZID=Europe/Berlin:20260505T190000
DURATION:PT30M
LOCATION:Mariä Himmelfahrt\, Portnerstr. 2\, 86356 Neusäß-Täfertingen
END:VEVENT
END:VCALENDAR
