BEGIN:VCALENDAR
VERSION:2.0
PRODID:-//Sabre//Sabre VObject 4.5.8//EN
CALSCALE:GREGORIAN
BEGIN:VEVENT
UID:sabre-vobject-86c39d32-3c5a-4a49-b0d0-0ca6bcce4c06
DTSTAMP:20260424T235901Z
SUMMARY:Seniorentreffen im Pfarrhof (KGZ)
DESCRIPTION:https://www2.bistum-augsburg.de/gottesdienste/seniorentreffen-i
 m-pfarrhof-kgz_id1726546
DTSTART;TZID=Europe/Berlin:20260513T140000
DURATION:PT30M
LOCATION:St. Georg\, Am Herrenberg 2\, 86932 Pürgen
END:VEVENT
END:VCALENDAR
