BEGIN:VCALENDAR
VERSION:2.0
PRODID:-//Sabre//Sabre VObject 4.5.8//EN
CALSCALE:GREGORIAN
BEGIN:VEVENT
UID:sabre-vobject-0503e598-4e14-49f4-85c5-5fa8f98ac8da
DTSTAMP:20260424T112739Z
SUMMARY:Rosenkranz
DESCRIPTION:https://www2.bistum-augsburg.de/gottesdienste/rosenkranz_id1726
 548
DTSTART;TZID=Europe/Berlin:20260516T183000
DURATION:PT30M
LOCATION:St. Georg\, Am Herrenberg 2\, 86932 Pürgen
END:VEVENT
END:VCALENDAR
