BEGIN:VCALENDAR
VERSION:2.0
PRODID:-//Sabre//Sabre VObject 4.5.8//EN
CALSCALE:GREGORIAN
BEGIN:VEVENT
UID:sabre-vobject-b4dbef02-f940-4e8f-a023-03eb025a8807
DTSTAMP:20260425T035414Z
SUMMARY:Feierliche Maiandacht
DESCRIPTION:https://www2.bistum-augsburg.de/gottesdienste/feierliche-maiand
 acht_id1726559
DTSTART;TZID=Europe/Berlin:20260519T190000
DURATION:PT30M
LOCATION:Mariä Heimsuchung
END:VEVENT
END:VCALENDAR
