BEGIN:VCALENDAR
VERSION:2.0
PRODID:-//Sabre//Sabre VObject 4.5.8//EN
CALSCALE:GREGORIAN
BEGIN:VEVENT
UID:sabre-vobject-15c20ae5-3be6-4717-be6d-b1f3829c51c9
DTSTAMP:20260424T185913Z
SUMMARY:St. Simpert: Heilige Messe\n
DESCRIPTION:https://www2.bistum-augsburg.de/gottesdienste/st-simpert-heilig
 e-messe_id1726566
DTSTART;TZID=Europe/Berlin:20260510T093000
DURATION:PT30M
LOCATION:St. Georg
END:VEVENT
END:VCALENDAR
