BEGIN:VCALENDAR
VERSION:2.0
PRODID:-//Sabre//Sabre VObject 4.5.8//EN
CALSCALE:GREGORIAN
BEGIN:VEVENT
UID:sabre-vobject-1d5e02d7-5187-41d0-9821-b74572806a5a
DTSTAMP:20260422T145805Z
SUMMARY:Messe
DESCRIPTION:https://www2.bistum-augsburg.de/gottesdienste/messe_id1726571
DTSTART;TZID=Europe/Berlin:20260515T183000
DURATION:PT30M
LOCATION:St. Michael\, St.-Michaels-Platz\, 86316 Friedberg
END:VEVENT
END:VCALENDAR
