BEGIN:VCALENDAR
VERSION:2.0
PRODID:-//Sabre//Sabre VObject 4.5.8//EN
CALSCALE:GREGORIAN
BEGIN:VEVENT
UID:sabre-vobject-87a8e1b2-b867-4744-b68f-3d644c8e752d
DTSTAMP:20260425T120647Z
SUMMARY:Hl. Messe entfällt
DESCRIPTION:https://www2.bistum-augsburg.de/gottesdienste/hl-messe-entfaell
 t_id1726574
DTSTART;TZID=Europe/Berlin:20260526T190000
DURATION:PT30M
LOCATION:St. Georg\, Am Herrenberg 2\, 86932 Pürgen
END:VEVENT
END:VCALENDAR
