BEGIN:VCALENDAR
VERSION:2.0
PRODID:-//Sabre//Sabre VObject 4.5.8//EN
CALSCALE:GREGORIAN
BEGIN:VEVENT
UID:sabre-vobject-a3475f0e-6991-4d65-b25b-8c1cbc48475a
DTSTAMP:20260424T080116Z
SUMMARY:PfGD:
DESCRIPTION:https://www2.bistum-augsburg.de/gottesdienste/pfgd_id1726577
DTSTART;TZID=Europe/Berlin:20260510T100000
DURATION:PT30M
LOCATION:St. Martin
END:VEVENT
END:VCALENDAR
