BEGIN:VCALENDAR
VERSION:2.0
PRODID:-//Sabre//Sabre VObject 4.5.8//EN
CALSCALE:GREGORIAN
BEGIN:VEVENT
UID:sabre-vobject-72369388-3b49-4737-b263-399a84df1b31
DTSTAMP:20260424T114935Z
SUMMARY:Maiandacht gestaltet v. Andrea Mönch und Claudia Schäfer
DESCRIPTION:https://www2.bistum-augsburg.de/gottesdienste/maiandacht-gestal
 tet-v-andrea-moench-und-claudia-schaefer_id1726578
DTSTART;TZID=Europe/Berlin:20260510T190000
DURATION:PT30M
LOCATION:St. Martin
END:VEVENT
END:VCALENDAR
