BEGIN:VCALENDAR
VERSION:2.0
PRODID:-//Sabre//Sabre VObject 4.5.8//EN
CALSCALE:GREGORIAN
BEGIN:VEVENT
UID:sabre-vobject-f2a870a7-d8b4-4222-8302-188afd8663ac
DTSTAMP:20260424T134617Z
SUMMARY:PfGD: anschl. Flurumgang
DESCRIPTION:https://www2.bistum-augsburg.de/gottesdienste/pfgd-anschl-fluru
 mgang_id1726580
DTSTART;TZID=Europe/Berlin:20260514T084500
DURATION:PT30M
LOCATION:St. Martin
END:VEVENT
END:VCALENDAR
