BEGIN:VCALENDAR
VERSION:2.0
PRODID:-//Sabre//Sabre VObject 4.5.8//EN
CALSCALE:GREGORIAN
BEGIN:VEVENT
UID:sabre-vobject-64cc8650-e1d8-403e-b379-21f8878602b3
DTSTAMP:20260424T083900Z
SUMMARY:Start zum Bittgang von den Pfarrkirchen (mit dem Fahrrad in O)
DESCRIPTION:https://www2.bistum-augsburg.de/gottesdienste/start-zum-bittgan
 g-von-den-pfarrkirchen-mit-dem-fahrrad-in-o_id1726581
DTSTART;TZID=Europe/Berlin:20260511T180000
DURATION:PT30M
LOCATION:St. Martin
END:VEVENT
END:VCALENDAR
