BEGIN:VCALENDAR
VERSION:2.0
PRODID:-//Sabre//Sabre VObject 4.5.8//EN
CALSCALE:GREGORIAN
BEGIN:VEVENT
UID:sabre-vobject-e50dff37-e640-470f-a4fb-9630d1301bd9
DTSTAMP:20260424T155417Z
SUMMARY:Pfarrgottesdienst\n
DESCRIPTION:https://www2.bistum-augsburg.de/gottesdienste/pfarrgottesdienst
 _id1726585
DTSTART;TZID=Europe/Berlin:20260510T100000
DURATION:PT30M
LOCATION:St. Georg
END:VEVENT
END:VCALENDAR
