BEGIN:VCALENDAR
VERSION:2.0
PRODID:-//Sabre//Sabre VObject 4.5.8//EN
CALSCALE:GREGORIAN
BEGIN:VEVENT
UID:sabre-vobject-63533e34-eeda-423a-bf37-b94e0fa82538
DTSTAMP:20260423T192314Z
SUMMARY:St. Simpert: Hochamt zu Christi Himmelfahrt
DESCRIPTION:https://www2.bistum-augsburg.de/gottesdienste/st-simpert-hocham
 t-zu-christi-himmelfahrt_id1726591
DTSTART;TZID=Europe/Berlin:20260514T093000
DURATION:PT30M
LOCATION:St. Georg
END:VEVENT
END:VCALENDAR
