BEGIN:VCALENDAR
VERSION:2.0
PRODID:-//Sabre//Sabre VObject 4.5.8//EN
CALSCALE:GREGORIAN
BEGIN:VEVENT
UID:sabre-vobject-67283651-263f-4ec3-9fe4-c3eab5afff94
DTSTAMP:20260424T134602Z
SUMMARY:Hl. Messe
DESCRIPTION:https://www2.bistum-augsburg.de/gottesdienste/hl-messe_id172659
 9
DTSTART;TZID=Europe/Berlin:20260517T101500
DURATION:PT30M
LOCATION:St. Nikolaus\, Schulstr. 1\, 86932 Lengenfeld
END:VEVENT
END:VCALENDAR
