BEGIN:VCALENDAR
VERSION:2.0
PRODID:-//Sabre//Sabre VObject 4.5.8//EN
CALSCALE:GREGORIAN
BEGIN:VEVENT
UID:sabre-vobject-8bb56303-e044-4b73-a870-1716c0dae455
DTSTAMP:20260421T183206Z
SUMMARY:Festgottesdienst zur Feier der Erstkommunion der Kinder aus Möding
 en\, Dattenhausen und Burghagel in der Kirche Wittislingen
DESCRIPTION:https://www2.bistum-augsburg.de/gottesdienste/festgottesdienst-
 zur-feier-der-erstkommunion-der-kinder-aus-moedingen-dattenhausen-und-burg
 hagel-in-der-kirche-wittislingen_id1726601
DTSTART;TZID=Europe/Berlin:20260502T100000
DURATION:PT30M
LOCATION:St. Martin\, Vogteistraße 6\, 89446 Ziertheim
END:VEVENT
END:VCALENDAR
